BEGIN:VCALENDAR
VERSION:2.0
PRODID:-//Movable Type 5//EN
METHOD:PUBLISH
X-WR-CALNAME:LAU Events
X-WR-CALDESC:Events organized by the Lebanese American University
BEGIN:VTIMEZONE
TZID:Asia/Beirut
LAST-MODIFIED:20110601T160000Z
BEGIN:STANDARD
DTSTART:20111029T210000Z
TZOFFSETFROM:+0300
TZOFFSETTO:+0200
RRULE:FREQ=YEARLY;BYDAY=-1SU;BYMONTH=10;
COMMENT:Starts last Sunday of October
END:STANDARD
BEGIN:DAYLIGHT
DTSTART:20110326T220000Z
TZOFFSETFROM:+0200
TZOFFSETTO:+0300
RRULE:FREQ=YEARLY;BYDAY=-1SU;BYMONTH=3;
COMMENT:Starts last Sunday of March
END:DAYLIGHT
END:VTIMEZONE
BEGIN:VTIMEZONE
TZID:America/New_York
LAST-MODIFIED:20141222T160000Z
BEGIN:STANDARD
DTSTART:20150308T020000Z
TZOFFSETFROM:-0500
TZOFFSETTO:-0400
RRULE:FREQ=YEARLY;BYDAY=-1SU;BYMONTH=3;
COMMENT:Starts Sunday, March 8
END:STANDARD
BEGIN:DAYLIGHT
DTSTART:20151101T020000Z
TZOFFSETFROM:-0400
TZOFFSETTO:-0500
RRULE:FREQ=YEARLY;BYDAY=-1SU;BYMONTH=11;
COMMENT:Starts Sunday November 1
END:DAYLIGHT
END:VTIMEZONE

BEGIN:VEVENT
UID:66528@eventscal.lau.edu.lb
SUMMARY:AKSOB Future Business Leaders Summer Camp 2026
DTSTAMP:20260226T090200Z
LAST-MODIFIED:20260313T103600Z
DTSTART;TZID=Asia/Beirut:20260706T090000
DTEND;TZID=Asia/Beirut:20260706T160000
RRULE:FREQ=DAILY;UNTIL=20260710T130000Z
LOCATION:LAU Beirut and LAU Byblos 
URL:https://eventscal.lau.edu.lb/event.php?evt=20260226_aksob-future-business-leaders-su
END:VEVENT

BEGIN:VEVENT
UID:72954@eventscal.lau.edu.lb
SUMMARY:Nursing Summer Camp 2026
DTSTAMP:20260420T115000Z
LAST-MODIFIED:20260421T075300Z
DTSTART;VALUE=DATE:20260703
DTEND;VALUE=DATE:20260705
X-MICROSOFT-CDO-ALLDAYEVENT:TRUE
LOCATION:LAU Byblos campus
URL:https://eventscal.lau.edu.lb/event.php?evt=20260420_nursing-summer-camp-2026
END:VEVENT

BEGIN:VEVENT
UID:66677@eventscal.lau.edu.lb
SUMMARY:The Summer Art & Design Camp 
DTSTAMP:20260327T121000Z
LAST-MODIFIED:20260327T132700Z
DTSTART;VALUE=DATE:20260629
DTEND;VALUE=DATE:20260704
X-MICROSOFT-CDO-ALLDAYEVENT:TRUE
LOCATION:Gezairi Building, LAU Beirut campus
URL:https://eventscal.lau.edu.lb/event.php?evt=20260327_the-summer-art-design-camp
END:VEVENT

BEGIN:VEVENT
UID:66614@eventscal.lau.edu.lb
SUMMARY:The LAU Engineering Robotics and Artificial Intelligence Summer School
DTSTAMP:20260312T111500Z
LAST-MODIFIED:20260324T090800Z
DTSTART;VALUE=DATE:20260629
DTEND;VALUE=DATE:20260711
X-MICROSOFT-CDO-ALLDAYEVENT:TRUE
LOCATION:LAU Beirut campus
URL:https://eventscal.lau.edu.lb/event.php?evt=20260312_lau-engineering-robotics-and-art-1
END:VEVENT

BEGIN:VEVENT
UID:66524@eventscal.lau.edu.lb
SUMMARY:Economics Summer Camp 2026
DTSTAMP:20260226T082000Z
LAST-MODIFIED:20260310T130500Z
DTSTART;TZID=Asia/Beirut:20260629T083000
DTEND;TZID=Asia/Beirut:20260629T143000
RRULE:FREQ=DAILY;UNTIL=20260703T113000Z
LOCATION:LAU Beirut and LAU Byblos 
URL:https://eventscal.lau.edu.lb/event.php?evt=20260226_economics-summer-camp-2026
END:VEVENT

BEGIN:VEVENT
UID:66258@eventscal.lau.edu.lb
SUMMARY:The LAU Engineering Summer Camp
DTSTAMP:20260212T102800Z
LAST-MODIFIED:20260225T102500Z
DTSTART;VALUE=DATE:20260629
DTEND;VALUE=DATE:20260801
X-MICROSOFT-CDO-ALLDAYEVENT:TRUE
LOCATION:LAU Byblos campus
URL:https://eventscal.lau.edu.lb/event.php?evt=20260212_the-lau-engineering-summer-camp-1
END:VEVENT

BEGIN:VEVENT
UID:66663@eventscal.lau.edu.lb
SUMMARY:Beyond Blood Pressure: A Multidisciplinary Approach to Hypertension Management and Risk Reduction
DTSTAMP:20260325T104100Z
LAST-MODIFIED:20260326T094200Z
DTSTART;TZID=Asia/Beirut:20260521T130000
DTEND;TZID=Asia/Beirut:20260521T140000
LOCATION:LAU Medical Center–Rizk Hospital, Dr. Michel E. Mawad Block D, auditorium, 5th floor or Online via WebEx
URL:https://eventscal.lau.edu.lb/event.php?evt=20260325_beyond-blood-pressure-a-multidis
END:VEVENT

BEGIN:VEVENT
UID:66468@eventscal.lau.edu.lb
SUMMARY:Capstone Innovation Fair 2026
DTSTAMP:20260220T141700Z
LAST-MODIFIED:20260424T100900Z
DTSTART;TZID=Asia/Beirut:20260513T130000
DTEND;TZID=Asia/Beirut:20260513T170000
LOCATION:Irwin Hall, LAU Beirut campus
URL:https://eventscal.lau.edu.lb/event.php?evt=20260402_capstone-innovation-fair-2026
END:VEVENT

BEGIN:VEVENT
UID:72845@eventscal.lau.edu.lb
SUMMARY:Your Personal AI Assistant: Work Smarter. Decide Faster. Lead Better.
DTSTAMP:20260417T091600Z
LAST-MODIFIED:20260417T102900Z
DTSTART;TZID=Asia/Beirut:20260430T173000
DTEND;TZID=Asia/Beirut:20260430T193000
LOCATION:Online
URL:https://eventscal.lau.edu.lb/event.php?evt=20260417_your-personal-ai-assistant-work-
END:VEVENT

BEGIN:VEVENT
UID:64379@eventscal.lau.edu.lb
SUMMARY:LAU Research Day 
DTSTAMP:20250925T122500Z
LAST-MODIFIED:20260424T112700Z
DTSTART;TZID=Asia/Beirut:20260430T083000
DTEND;TZID=Asia/Beirut:20260430T173000
LOCATION:Byblos campus
URL:https://eventscal.lau.edu.lb/event.php?evt=20260401_research-day
END:VEVENT

BEGIN:VEVENT
UID:66456@eventscal.lau.edu.lb
SUMMARY:Food Loss in the Food Industry: Hidden Costs and Practical Solutions
DTSTAMP:20260220T080600Z
LAST-MODIFIED:20260220T110600Z
DTSTART;TZID=Asia/Beirut:20260429T150000
DTEND;TZID=Asia/Beirut:20260429T163000
LOCATION:Michel Daher Social Foundation, Fourzol
URL:https://eventscal.lau.edu.lb/event.php?evt=20260401_food-waste-in-the-food-industry-
END:VEVENT

BEGIN:VEVENT
UID:66662@eventscal.lau.edu.lb
SUMMARY:Anesthesiologists in War and Armed Conflicts: Perioperative Care from ED to ICU
DTSTAMP:20260324T230700Z
LAST-MODIFIED:20260424T091800Z
DTSTART;TZID=Asia/Beirut:20260429T180000
DTEND;TZID=Asia/Beirut:20260429T193000
LOCATION:LAU Medical Center–Rizk Hospital, Dr. Michel E. Mawad Block D, auditorium, 5th floor; Online via WebEx
URL:https://eventscal.lau.edu.lb/event.php?evt=20260325_anesthesia-in-war-and-armed-conf
END:VEVENT

BEGIN:VEVENT
UID:66527@eventscal.lau.edu.lb
SUMMARY:AI in Dietetics Practice Workshop–Second Edition
DTSTAMP:20260226T085200Z
LAST-MODIFIED:20260226T085800Z
DTSTART;TZID=Asia/Beirut:20260425T083000
DTEND;TZID=Asia/Beirut:20260425T123000
LOCATION:AKSOB 904, LAU Beirut campus
URL:https://eventscal.lau.edu.lb/event.php?evt=20260401_laus-2nd-ai-in-dietetics-practic
END:VEVENT

BEGIN:VEVENT
UID:66629@eventscal.lau.edu.lb
SUMMARY:Green Skills for a Green Economy [Postponed]
DTSTAMP:20260316T213500Z
LAST-MODIFIED:20260414T224900Z
DTSTART;TZID=Asia/Beirut:20260425T100000
DTEND;TZID=Asia/Beirut:20260425T140000
LOCATION:Adelaide Bahu Lecture Hall-AKSOB 903-LAU Beirut
URL:https://eventscal.lau.edu.lb/event.php?evt=20260316_green-skills-for-a-green-economy-1
END:VEVENT

BEGIN:VEVENT
UID:73272@eventscal.lau.edu.lb
SUMMARY:Startup Leadership Through Crises
DTSTAMP:20260423T104900Z
LAST-MODIFIED:20260423T104900Z
DTSTART;TZID=Asia/Beirut:20260424T120000
DTEND;TZID=Asia/Beirut:20260424T133000
LOCATION:Frem Auditorium, 205 LAU Byblos campus and Online via Webex
URL:https://eventscal.lau.edu.lb/event.php?evt=20260423_startup-leadership-through-crise
END:VEVENT

BEGIN:VEVENT
UID:73262@eventscal.lau.edu.lb
SUMMARY:Words Left Unspoken
DTSTAMP:20260422T081600Z
LAST-MODIFIED:20260422T081600Z
DTSTART;TZID=Asia/Beirut:20260424T173000
DURATION:PT1H
LOCATION:LAU Louis Cardahi Foundation, Byblos
URL:https://eventscal.lau.edu.lb/event.php?evt=20260422_words-left-unspoken
END:VEVENT

BEGIN:VEVENT
UID:66769@eventscal.lau.edu.lb
SUMMARY:Air, Science, and Sustainability - BS to PhD in Chemistry
DTSTAMP:20260417T071000Z
LAST-MODIFIED:20260417T071300Z
DTSTART;TZID=Asia/Beirut:20260424T180000
DTEND;TZID=Asia/Beirut:20260424T190000
LOCATION:Online via Webex
URL:https://eventscal.lau.edu.lb/event.php?evt=20260417_air-science-and-sustainability--
END:VEVENT

BEGIN:VEVENT
UID:73258@eventscal.lau.edu.lb
SUMMARY:BEYOND WALLS
DTSTAMP:20260422T064100Z
LAST-MODIFIED:20260422T110000Z
DTSTART;TZID=Asia/Beirut:20260423T110000
DTEND;TZID=Asia/Beirut:20260423T123000
LOCATION:Irwin Auditorium, LAU Beirut campus and online via Webex
URL:https://eventscal.lau.edu.lb/event.php?evt=20260422_beyound-walls
END:VEVENT

BEGIN:VEVENT
UID:66766@eventscal.lau.edu.lb
SUMMARY:Image, Conflict, Memory: Illustrating Through War
DTSTAMP:20260416T112700Z
LAST-MODIFIED:20260416T112800Z
DTSTART;TZID=Asia/Beirut:20260423T180000
DTEND;TZID=Asia/Beirut:20260423T190000
LOCATION:Online via Webex
URL:https://eventscal.lau.edu.lb/event.php?evt=20260416_image-conflict-memory-illustrati
END:VEVENT

BEGIN:VEVENT
UID:66753@eventscal.lau.edu.lb
SUMMARY:Conflict in Family Businesses
DTSTAMP:20260414T210300Z
LAST-MODIFIED:20260417T121500Z
DTSTART;TZID=Asia/Beirut:20260422T103000
DTEND;TZID=Asia/Beirut:20260422T150000
LOCATION:Gilbert and Rose-Marie Chagoury Health Sciences Center-Auditorium Level 1. LAU Byblos campus
URL:https://eventscal.lau.edu.lb/event.php?evt=20260414_conflict-in-family-businesses
END:VEVENT

BEGIN:VEVENT
UID:66716@eventscal.lau.edu.lb
SUMMARY:Soft Skills 2026: A Student Talent Special Edition
DTSTAMP:20260401T131500Z
LAST-MODIFIED:20260416T095100Z
DTSTART;TZID=Asia/Beirut:20260421T140000
DTEND;TZID=Asia/Beirut:20260421T160000
LOCATION:Online via Webex
URL:https://eventscal.lau.edu.lb/event.php?evt=20260401_soft-skills-2026-a-student-talen
END:VEVENT

BEGIN:VEVENT
UID:65726@eventscal.lau.edu.lb
SUMMARY:Second Heart 2 Heart Talks [Postponed]
DTSTAMP:20251222T121400Z
LAST-MODIFIED:20260310T124600Z
DTSTART;TZID=Asia/Beirut:20260418T073000
DTEND;TZID=Asia/Beirut:20260418T143000
LOCATION:LAU Medical Center–Rizk Hospital, Dr. Michel E. Mawad Block D, auditorium, 5th floor
URL:https://eventscal.lau.edu.lb/event.php?evt=20260401_second-heart-2-heart-talks
END:VEVENT

BEGIN:VEVENT
UID:66617@eventscal.lau.edu.lb
SUMMARY:14th Annual Creative Writing Competition Awards Ceremony [Postponed]
DTSTAMP:20260312T145100Z
LAST-MODIFIED:20260421T084500Z
DTSTART;TZID=Asia/Beirut:20260417T150000
DTEND;TZID=Asia/Beirut:20260417T170000
LOCATION:Faculty Lounge, Irwin Hall, LAU Beirut campus
URL:https://eventscal.lau.edu.lb/event.php?evt=20260312_14th-annual-creative-writing-com-1
END:VEVENT

BEGIN:VEVENT
UID:66678@eventscal.lau.edu.lb
SUMMARY:LAU Hacks
DTSTAMP:20260327T132300Z
LAST-MODIFIED:20260327T132900Z
DTSTART;TZID=Asia/Beirut:20260416T090000
DTEND;TZID=Asia/Beirut:20260416T180000
LOCATION:Chagoury Auditorium, LAU Byblos campus
URL:https://eventscal.lau.edu.lb/event.php?evt=20260327_lau-hacks
END:VEVENT

BEGIN:VEVENT
UID:66169@eventscal.lau.edu.lb
SUMMARY:Connect with Your Future: School of Pharmacy
DTSTAMP:20260206T062800Z
LAST-MODIFIED:20260402T112400Z
DTSTART;TZID=Asia/Beirut:20260415T143000
DTEND;TZID=Asia/Beirut:20260415T160000
LOCATION:LAU Byblos Campus - CHSC Auditorium and Online
URL:https://eventscal.lau.edu.lb/event.php?evt=20260206_connect-with-your-future-school-
END:VEVENT

BEGIN:VEVENT
UID:66159@eventscal.lau.edu.lb
SUMMARY:LAU 2026 Career Fair: Mark Your Calendars!
DTSTAMP:20260205T105700Z
LAST-MODIFIED:20260327T122600Z
DTSTART;VALUE=DATE:20260415
DTEND;VALUE=DATE:20260416
X-MICROSOFT-CDO-ALLDAYEVENT:TRUE
LOCATION:LAU Byblos Campus
URL:https://eventscal.lau.edu.lb/event.php?evt=20260205_lau-2026-career-fair-mark-your-c
END:VEVENT

BEGIN:VEVENT
UID:66607@eventscal.lau.edu.lb
SUMMARY:Digitize, Optimize, Transform – Skills of the Future Workshop Series (Session 3)
DTSTAMP:20260309T130500Z
LAST-MODIFIED:20260311T163100Z
DTSTART;TZID=Asia/Beirut:20260414T160000
DTEND;TZID=Asia/Beirut:20260414T183000
LOCATION:LAU Beirut Campus-AKSOB 1109 and via Webex
URL:https://eventscal.lau.edu.lb/event.php?evt=20260309_digitize-optimize-transform-skil
END:VEVENT

BEGIN:VEVENT
UID:66742@eventscal.lau.edu.lb
SUMMARY:Resume Review Booth
DTSTAMP:20260408T110900Z
LAST-MODIFIED:20260408T111100Z
DTSTART;TZID=Asia/Beirut:20260408T110000
DTEND;TZID=Asia/Beirut:20260408T130000
RRULE:FREQ=DAILY;UNTIL=20260409T100000Z
LOCATION:LAU Byblos Campus - Medical Building Lobby
URL:https://eventscal.lau.edu.lb/event.php?evt=20260408_resume-review-booth-2
END:VEVENT

BEGIN:VEVENT
UID:66696@eventscal.lau.edu.lb
SUMMARY:LAU Economic Policy Talk Series-Maurice Mattar
DTSTAMP:20260331T095500Z
LAST-MODIFIED:20260331T095700Z
DTSTART;TZID=Asia/Beirut:20260408T150000
DTEND;TZID=Asia/Beirut:20260408T163000
LOCATION:FREM 401 C - LAU Byblos campus or via Webex
URL:https://eventscal.lau.edu.lb/event.php?evt=20260331_lau-economic-policy-talk-series--2
END:VEVENT

BEGIN:VEVENT
UID:66721@eventscal.lau.edu.lb
SUMMARY:The Art of Writing Your Resume
DTSTAMP:20260402T102400Z
LAST-MODIFIED:20260402T102400Z
DTSTART;VALUE=DATE:20260407
DTEND;VALUE=DATE:20260408
X-MICROSOFT-CDO-ALLDAYEVENT:TRUE
LOCATION:Online
URL:https://eventscal.lau.edu.lb/event.php?evt=20260402_the-art-of-writing-your-resume-2
END:VEVENT

BEGIN:VEVENT
UID:66719@eventscal.lau.edu.lb
SUMMARY:AI-proofing your Resume Workshop
DTSTAMP:20260402T082600Z
LAST-MODIFIED:20260402T082600Z
DTSTART;TZID=Asia/Beirut:20260407T121500
DTEND;TZID=Asia/Beirut:20260407T130000
LOCATION:Online
URL:https://eventscal.lau.edu.lb/event.php?evt=20260402_ai-proofing-your-resume-workshop
END:VEVENT

BEGIN:VEVENT
UID:66606@eventscal.lau.edu.lb
SUMMARY:Rise, Adapt, Thrive – Skills of the Future Workshop Series (Session 2)
DTSTAMP:20260309T125100Z
LAST-MODIFIED:20260311T163100Z
DTSTART;TZID=Asia/Beirut:20260407T160000
DTEND;TZID=Asia/Beirut:20260407T183000
LOCATION:LAU Beirut Campus-AKSOB 1109 and via Webex 
URL:https://eventscal.lau.edu.lb/event.php?evt=20260309_rise-adapt-thrive-skills-of-the-
END:VEVENT

BEGIN:VEVENT
UID:66700@eventscal.lau.edu.lb
SUMMARY:Job Teaser … Guided Session
DTSTAMP:20260331T122400Z
LAST-MODIFIED:20260402T102300Z
DTSTART;TZID=Asia/Beirut:20260402T110000
DURATION:PT1H
LOCATION:Online
URL:https://eventscal.lau.edu.lb/event.php?evt=20260331_job-teaser-guided-session
END:VEVENT

BEGIN:VEVENT
UID:66363@eventscal.lau.edu.lb
SUMMARY:Cybersecurity & Digital Trust Symposium 2026 [Postponed]
DTSTAMP:20260216T131200Z
LAST-MODIFIED:20260330T085100Z
DTSTART;TZID=Asia/Beirut:20260401T090000
DTEND;TZID=Asia/Beirut:20260401T150000
LOCATION:Gulbenkian Amphitheater, Safadi 601 and 607, LAU Beirut campus
URL:https://eventscal.lau.edu.lb/event.php?evt=20260401_cybersecurity-digital-trust-symp
END:VEVENT

BEGIN:VEVENT
UID:66586@eventscal.lau.edu.lb
SUMMARY:Lead, Create, Innovate – Skills of the Future Workshop Series (Session 1)
DTSTAMP:20260305T090600Z
LAST-MODIFIED:20260311T163000Z
DTSTART;TZID=Asia/Beirut:20260331T160000
DTEND;TZID=Asia/Beirut:20260331T183000
LOCATION:LAU Beirut Campus-AKSOB 1109 and via Webex 
URL:https://eventscal.lau.edu.lb/event.php?evt=20260305_lead-create-innovate-skills-of-t
END:VEVENT

BEGIN:VEVENT
UID:66666@eventscal.lau.edu.lb
SUMMARY:How War Impacts Health and Healthcare for Marginalized Communities in Lebanon
DTSTAMP:20260326T104500Z
LAST-MODIFIED:20260326T105300Z
DTSTART;TZID=Asia/Beirut:20260330T153000
DTEND;TZID=Asia/Beirut:20260330T164500
LOCATION:Webex
URL:https://eventscal.lau.edu.lb/event.php?evt=20260326_how-war-impacts-health-and-healt
END:VEVENT

BEGIN:VEVENT
UID:66462@eventscal.lau.edu.lb
SUMMARY:LAU Engineering Scholarship Awards Competition 2026 [Postponed]
DTSTAMP:20260220T113400Z
LAST-MODIFIED:20260324T105400Z
DTSTART;VALUE=DATE:20260328
DTEND;VALUE=DATE:20260329
X-MICROSOFT-CDO-ALLDAYEVENT:TRUE
LOCATION:LAU Byblos campus
URL:https://eventscal.lau.edu.lb/event.php?evt=20260220_lau-engineering-scholarship-awar-4
END:VEVENT

BEGIN:VEVENT
UID:66604@eventscal.lau.edu.lb
SUMMARY:LAU Alumni London Chapter Solidarity Dinner
DTSTAMP:20260309T085400Z
LAST-MODIFIED:20260312T120700Z
DTSTART;TZID=Asia/Beirut:20260327T183000
DURATION:PT1H
LOCATION:One Great George Street, London SW1P 3AA , UK
URL:https://eventscal.lau.edu.lb/event.php?evt=20260309_lau-alumni-london-chapter-solida
END:VEVENT

BEGIN:VEVENT
UID:66180@eventscal.lau.edu.lb
SUMMARY:LAU’s 4th Nutrition and Food Science Research Day: From Research to Action [Postponed]
DTSTAMP:20260206T131100Z
LAST-MODIFIED:20260309T115300Z
DTSTART;TZID=Asia/Beirut:20260327T090000
DTEND;TZID=Asia/Beirut:20260327T144500
LOCATION:LAU Beirut campus
URL:https://eventscal.lau.edu.lb/event.php?evt=20260301_from-research-to-action-laus-4th
END:VEVENT

BEGIN:VEVENT
UID:66630@eventscal.lau.edu.lb
SUMMARY:Entrepreneurship in the F&B Industry: The Case of Em Sherif
DTSTAMP:20260316T221400Z
LAST-MODIFIED:20260317T124500Z
DTSTART;TZID=Asia/Beirut:20260326T110000
DURATION:PT1H
LOCATION:Online via Webex
URL:https://eventscal.lau.edu.lb/event.php?evt=20260317_entrepreneurship-in-the-fb-indus
END:VEVENT

BEGIN:VEVENT
UID:66623@eventscal.lau.edu.lb
SUMMARY:When Not to Be Concerned: The Uncertain Certainties of Mass Traumas
DTSTAMP:20260313T170200Z
LAST-MODIFIED:20260318T102300Z
DTSTART;TZID=Asia/Beirut:20260324T130000
DTEND;TZID=Asia/Beirut:20260324T140000
LOCATION:Online via WebEx
URL:https://eventscal.lau.edu.lb/event.php?evt=20260324_when-not-to-be-concerned-the-unc
END:VEVENT

BEGIN:VEVENT
UID:66428@eventscal.lau.edu.lb
SUMMARY:United in Action Symposium – Second Edition [Postponed]
DTSTAMP:20260218T153600Z
LAST-MODIFIED:20260309T112000Z
DTSTART;TZID=Asia/Beirut:20260324T083000
DTEND;TZID=Asia/Beirut:20260324T160000
LOCATION:LAU Beirut campus, Irwin Hall Auditorium
URL:https://eventscal.lau.edu.lb/event.php?evt=20260218_united-in-action---second-editio
END:VEVENT

BEGIN:VEVENT
UID:65920@eventscal.lau.edu.lb
SUMMARY:HR Reforms in Lebanon [Postponed]
DTSTAMP:20260126T091200Z
LAST-MODIFIED:20260310T142600Z
DTSTART;TZID=Asia/Beirut:20260324T160000
DURATION:PT1H
LOCATION:AKSOB 903, LAU Beirut campus
URL:https://eventscal.lau.edu.lb/event.php?evt=20260126_hr-reforms-in-lebanon
END:VEVENT

BEGIN:VEVENT
UID:63710@eventscal.lau.edu.lb
SUMMARY:The 41st ACM Symposium on Applied Computing (SAC 2026)
DTSTAMP:20250725T114600Z
LAST-MODIFIED:20251001T211400Z
DTSTART;VALUE=DATE:20260323
DTEND;VALUE=DATE:20260328
X-MICROSOFT-CDO-ALLDAYEVENT:TRUE
LOCATION:Thessaloniki, Greece
URL:https://eventscal.lau.edu.lb/event.php?evt=20260302_the-41th-acm-symposium-on-applie
END:VEVENT

BEGIN:VEVENT
UID:66624@eventscal.lau.edu.lb
SUMMARY:LAU Medical Center-Saint John’s Hospital Mass Casualty Management Plan: A 2026 Update
DTSTAMP:20260313T172000Z
LAST-MODIFIED:20260313T172200Z
DTSTART;TZID=Asia/Beirut:20260316T130000
DTEND;TZID=Asia/Beirut:20260316T140000
LOCATION:LAU Medical Center Saint John&#8217;s Hospital - Auditorium; Online
URL:https://eventscal.lau.edu.lb/event.php?evt=20260313_lau-medical-center-saint-johns-h
END:VEVENT

BEGIN:VEVENT
UID:66616@eventscal.lau.edu.lb
SUMMARY:14th Annual Creative Writing Competition
DTSTAMP:20260312T140500Z
LAST-MODIFIED:20260407T125900Z
DTSTART;VALUE=DATE:20260312
DTEND;VALUE=DATE:20260408
X-MICROSOFT-CDO-ALLDAYEVENT:TRUE
LOCATION:Lebanese American University
URL:https://eventscal.lau.edu.lb/event.php?evt=20260312_14th-annual-creative-writing-com
END:VEVENT

BEGIN:VEVENT
UID:66372@eventscal.lau.edu.lb
SUMMARY:Engaging Adolescents in Therapy [Postponed]
DTSTAMP:20260217T064500Z
LAST-MODIFIED:20260317T112200Z
DTSTART;TZID=Asia/Beirut:20260307T083000
DTEND;TZID=Asia/Beirut:20260307T153000
LOCATION:Nicol 406, LAU Beirut campus 
URL:https://eventscal.lau.edu.lb/event.php?evt=20260320_engaging-adolescents-in-therapy
END:VEVENT

BEGIN:VEVENT
UID:66270@eventscal.lau.edu.lb
SUMMARY:Rare Disease Day 2026 [Postponed]
DTSTAMP:20260213T080700Z
LAST-MODIFIED:20260302T164400Z
DTSTART;TZID=Asia/Beirut:20260307T080000
DTEND;TZID=Asia/Beirut:20260307T173000
LOCATION:LAU Beirut campus, Irwin Hall Auditorium
URL:https://eventscal.lau.edu.lb/event.php?evt=20260213_rare-disease-day-2026
END:VEVENT

BEGIN:VEVENT
UID:66444@eventscal.lau.edu.lb
SUMMARY:Concert: Rare Disease Day 2026 [Postponed]
DTSTAMP:20260219T131000Z
LAST-MODIFIED:20260302T164200Z
DTSTART;TZID=Asia/Beirut:20260305T190000
DTEND;TZID=Asia/Beirut:20260305T203000
LOCATION:LAU Beirut campus, Irwin Hall Auditorium
URL:https://eventscal.lau.edu.lb/event.php?evt=20260219_concert-rare-disease-day-2026
END:VEVENT

BEGIN:VEVENT
UID:66386@eventscal.lau.edu.lb
SUMMARY:Cultivating Change: Private Sector Solutions For Lebanon [Postponed]
DTSTAMP:20260217T131300Z
LAST-MODIFIED:20260303T142400Z
DTSTART;TZID=Asia/Beirut:20260304T140000
DURATION:PT1H
LOCATION:AKSOB 904, LAU Beirut campus 
URL:https://eventscal.lau.edu.lb/event.php?evt=20260217_cultivating-change-a-fireside-ch
END:VEVENT

BEGIN:VEVENT
UID:66523@eventscal.lau.edu.lb
SUMMARY:Life Experience and Life Lessons [Postponed]
DTSTAMP:20260226T074300Z
LAST-MODIFIED:20260302T085100Z
DTSTART;TZID=Asia/Beirut:20260302T130000
DTEND;TZID=Asia/Beirut:20260302T140000
LOCATION:AKSOB 903, LAU Beirut campus 
URL:https://eventscal.lau.edu.lb/event.php?evt=20260226_life-experience-and-life-lessons
END:VEVENT

BEGIN:VEVENT
UID:66394@eventscal.lau.edu.lb
SUMMARY:Hima Anfeh]]>
DTSTAMP:20260218T081800Z
LAST-MODIFIED:20260218T121900Z
DTSTART;TZID=Asia/Beirut:20260228T173000
DURATION:PT1H
LOCATION:LAU-Louis Cardahi Foundation, Byblos
URL:https://eventscal.lau.edu.lb/event.php?evt=20260218_screening-of-hima-anfeh
END:VEVENT

BEGIN:VEVENT
UID:65584@eventscal.lau.edu.lb
SUMMARY:Education Graduate Research Day
DTSTAMP:20251208T122300Z
LAST-MODIFIED:20260309T110300Z
DTSTART;TZID=Asia/Beirut:20260228T083000
DTEND;TZID=Asia/Beirut:20260228T140000
LOCATION:AKSOB, LAU Beirut campus
URL:https://eventscal.lau.edu.lb/event.php?evt=20260201_education-graduate-research-day
END:VEVENT

BEGIN:VEVENT
UID:64953@eventscal.lau.edu.lb
SUMMARY:AI & IOT Fusion Bootcamp
DTSTAMP:20251023T091800Z
LAST-MODIFIED:20251215T171300Z
DTSTART;TZID=Asia/Beirut:20260228T090000
DTEND;TZID=Asia/Beirut:20260228T170000
LOCATION:LAU Beirut Campus, Nicol 520
URL:https://eventscal.lau.edu.lb/event.php?evt=20251023_ai-iot-fusion-bootcamp
END:VEVENT

BEGIN:VEVENT
UID:66359@eventscal.lau.edu.lb
SUMMARY:LAU Music Nights 2026
DTSTAMP:20260216T125500Z
LAST-MODIFIED:20260216T150000Z
DTSTART;TZID=Asia/Beirut:20260226T200000
DURATION:PT1H
LOCATION:Gulbenkian Amphitheater, LAU Beirut campus
URL:https://eventscal.lau.edu.lb/event.php?evt=20260216_lau-music-nights-2026
END:VEVENT

BEGIN:VEVENT
UID:66263@eventscal.lau.edu.lb
SUMMARY:Graphic Women from Southwest Asia to North Africa
DTSTAMP:20260212T123900Z
LAST-MODIFIED:20260220T113000Z
DTSTART;TZID=Asia/Beirut:20260226T160000
DURATION:PT1H
LOCATION:AKSOB 903, Beirut campus
URL:https://eventscal.lau.edu.lb/event.php?evt=20260212_graphic-women-from-southwest-asi
END:VEVENT

BEGIN:VEVENT
UID:65943@eventscal.lau.edu.lb
SUMMARY:Understanding the Mind-Body Connection with Food
DTSTAMP:20260127T121600Z
LAST-MODIFIED:20260203T102800Z
DTSTART;TZID=Asia/Beirut:20260226T120000
DTEND;TZID=Asia/Beirut:20260226T130000
LOCATION:Online
URL:https://eventscal.lau.edu.lb/event.php?evt=20260127_understanding-the-mind-body-conn
END:VEVENT

BEGIN:VEVENT
UID:65989@eventscal.lau.edu.lb
SUMMARY:Beirut Economics Research Seminar Series-Dr. Nagham Sayour
DTSTAMP:20260202T072000Z
LAST-MODIFIED:20260202T072300Z
DTSTART;TZID=Asia/Beirut:20260225T123000
DTEND;TZID=Asia/Beirut:20260225T140000
LOCATION:AKSOB 16th floor, Conference Room 1617, LAU Beirut campus
URL:https://eventscal.lau.edu.lb/event.php?evt=20260202_beirut-economics-research-semina-5
END:VEVENT

BEGIN:VEVENT
UID:66385@eventscal.lau.edu.lb
SUMMARY:L’Oréal  Brandstorm
DTSTAMP:20260217T131200Z
LAST-MODIFIED:20260220T071400Z
DTSTART;TZID=Asia/Beirut:20260223T120000
DTEND;TZID=Asia/Beirut:20260223T130000
LOCATION:LAU Byblos Campus, Frem 203-204
URL:https://eventscal.lau.edu.lb/event.php?evt=20260217_loreal-brandstorm
END:VEVENT

BEGIN:VEVENT
UID:66379@eventscal.lau.edu.lb
SUMMARY:ED Tech Unit Grand Opening 
DTSTAMP:20260217T113700Z
LAST-MODIFIED:20260220T071100Z
DTSTART;TZID=Asia/Beirut:20260223T160000
DURATION:PT1H
LOCATION:Room 707, Riyad Nassar Library, LAU Beirut campus
URL:https://eventscal.lau.edu.lb/event.php?evt=20260217_ed-tech-unit-grand-opening
END:VEVENT

BEGIN:VEVENT
UID:66374@eventscal.lau.edu.lb
SUMMARY:The Launch of the AKSOB Circle-Driving National Revival: Coding Out Corruption with AI-Powered Governance
DTSTAMP:20260217T082000Z
LAST-MODIFIED:20260223T074800Z
DTSTART;TZID=Asia/Beirut:20260223T110000
DTEND;TZID=Asia/Beirut:20260223T130000
LOCATION:AKSOB 903, LAU Beirut campus 
URL:https://eventscal.lau.edu.lb/event.php?evt=20260217_the-launch-of-the-aksob-circle-d
END:VEVENT

BEGIN:VEVENT
UID:66293@eventscal.lau.edu.lb
SUMMARY:CV Writing and Interviewing Skills Workshop
DTSTAMP:20260213T110700Z
LAST-MODIFIED:20260213T110800Z
DTSTART;VALUE=DATE:20260223
DTEND;VALUE=DATE:20260327
X-MICROSOFT-CDO-ALLDAYEVENT:TRUE
LOCATION:Online via WebEx
URL:https://eventscal.lau.edu.lb/event.php?evt=20260213_cv-writing-and-interviewing-skil
END:VEVENT

BEGIN:VEVENT
UID:66292@eventscal.lau.edu.lb
SUMMARY:L’Oréal Brandstorm Competition-2026 Byblos
DTSTAMP:20260213T105400Z
LAST-MODIFIED:20260220T071700Z
DTSTART;TZID=Asia/Beirut:20260223T120000
DURATION:PT1H
LOCATION:LAU Byblos campus 
URL:https://eventscal.lau.edu.lb/event.php?evt=20260213_loreal-brandstorm-competition-20-1
END:VEVENT

BEGIN:VEVENT
UID:65988@eventscal.lau.edu.lb
SUMMARY:Call for Abstracts – Symposium on the Future of Biology: Integrating Technology and Life Sciences
DTSTAMP:20260202T071900Z
LAST-MODIFIED:20260217T105800Z
DTSTART;VALUE=DATE:20260220
DTEND;VALUE=DATE:20260321
X-MICROSOFT-CDO-ALLDAYEVENT:TRUE
LOCATION:LAU Beirut campus
URL:https://eventscal.lau.edu.lb/event.php?evt=20260202_call-for-abstracts---symposium-o
END:VEVENT

BEGIN:VEVENT
UID:66275@eventscal.lau.edu.lb
SUMMARY:Breaking Barriers: The Rise of Women in Entrepreneurship
DTSTAMP:20260213T090000Z
LAST-MODIFIED:20260213T093700Z
DTSTART;TZID=Asia/Beirut:20260217T123000
DTEND;TZID=Asia/Beirut:20260217T140000
LOCATION:AKSOB 903, LAU Beirut campus 
URL:https://eventscal.lau.edu.lb/event.php?evt=20260213_breaking-barriers-the-rise-of-wo
END:VEVENT

BEGIN:VEVENT
UID:66246@eventscal.lau.edu.lb
SUMMARY:On Point Exhibition
DTSTAMP:20260211T140300Z
LAST-MODIFIED:20260217T062500Z
DTSTART;TZID=Asia/Beirut:20260217T160000
DTEND;TZID=Asia/Beirut:20260217T173000
LOCATION:Gallery, first floor, Gezairi Building, Beirut campus
URL:https://eventscal.lau.edu.lb/event.php?evt=20260211_onpoint-exhibition
END:VEVENT

BEGIN:VEVENT
UID:65881@eventscal.lau.edu.lb
SUMMARY:The Brown Bag Lecture Series
DTSTAMP:20260121T131700Z
LAST-MODIFIED:20260224T064800Z
DTSTART;TZID=Asia/Beirut:20260216T120000
DURATION:PT1H
LOCATION:Nicol Hall 406, Beirut campus and via Webex
URL:https://eventscal.lau.edu.lb/event.php?evt=20260202_about-durell
END:VEVENT

BEGIN:VEVENT
UID:65948@eventscal.lau.edu.lb
SUMMARY:Jr. NBA LAU League Draft
DTSTAMP:20260128T095200Z
LAST-MODIFIED:20260128T095200Z
DTSTART;VALUE=DATE:20260214
DTEND;VALUE=DATE:20260215
X-MICROSOFT-CDO-ALLDAYEVENT:TRUE
LOCATION:Irwin Hall, LAU Beirut campus
URL:https://eventscal.lau.edu.lb/event.php?evt=20260128_jr-nba-lau-league-draft-3
END:VEVENT

BEGIN:VEVENT
UID:65951@eventscal.lau.edu.lb
SUMMARY:Dr. Marc Fakhoury Book Launch and Signing
DTSTAMP:20260128T142500Z
LAST-MODIFIED:20260129T085400Z
DTSTART;TZID=Asia/Beirut:20260213T113000
DTEND;TZID=Asia/Beirut:20260213T133000
LOCATION:AKSOB building lobby, LAU Beirut campus
URL:https://eventscal.lau.edu.lb/event.php?evt=20260204_dr-marc-fakhoury-book-launch-and-s
END:VEVENT
END:VCALENDAR